BEGIN:VCALENDAR
VERSION:2.0
PRODID:-//Lifeline Northern Beaches - ECPv5.0.0//NONSGML v1.0//EN
CALSCALE:GREGORIAN
METHOD:PUBLISH
X-WR-CALNAME:Lifeline Northern Beaches
X-ORIGINAL-URL:https://www.lifelinenb.org.au
X-WR-CALDESC:Events for Lifeline Northern Beaches
BEGIN:VTIMEZONE
TZID:Australia/Sydney
BEGIN:STANDARD
TZOFFSETFROM:+1100
TZOFFSETTO:+1000
TZNAME:AEST
DTSTART:20200404T160000
END:STANDARD
BEGIN:DAYLIGHT
TZOFFSETFROM:+1000
TZOFFSETTO:+1100
TZNAME:AEDT
DTSTART:20201003T160000
END:DAYLIGHT
END:VTIMEZONE
BEGIN:VEVENT
DTSTART;VALUE=DATE:20200329
DTEND;VALUE=DATE:20200330
DTSTAMP:20200226T110511
CREATED:20180208T014829Z
LAST-MODIFIED:20191208T002732Z
UID:2268-1585440000-1585526399@www.lifelinenb.org.au
SUMMARY:The Lifeline Classic
DESCRIPTION:[vc_row css_animation=”” row_type=”row” use_row_as_full_screen_section=”no” type=”grid” angled_section=”no” text_align=”left” background_image_as_pattern=”without_pattern”][vc_column][vc_column_text][/vc_column_text][vc_empty_space][vc_column_text] \nLifeline Classic – Queenscliff Beach\n[/vc_column_text][vc_empty_space][vc_row_inner row_type=”row” type=”full_width” text_align=”left” css_animation=””][vc_column_inner width=”1/12″][/vc_column_inner][vc_column_inner width=”5/6″][vc_column_text el_class=”event_content”]Having struck a chord with the community over the past three years\, the Lifeline Classic will return to the northern beaches on Sunday\, 29 March 2020. The Lifeline Classic is a ‘tag team’ surfing comp – but it’s also a fundraising challenge. If you want to take part\, start by rounding up a team of four surfers. Then\, it’s up to your team to raise as many donations as possible (in past years\, the goal has been $5\,000 per team\, so why not see if you can beat this?).  Limited spots are available\, so register your team today![/vc_column_text][/vc_column_inner][vc_column_inner width=”1/12″][/vc_column_inner][/vc_row_inner][vc_empty_space height=”36px”][/vc_column][/vc_row][vc_row css_animation=”” row_type=”row” use_row_as_full_screen_section=”no” type=”full_width” angled_section=”no” text_align=”left” background_image=”308″ background_image_as_pattern=”without_pattern” el_class=”full_width_container”][vc_column][vc_empty_space height=”37px”][vc_column_text] \ndetails\n[/vc_column_text][vc_row_inner row_type=”row” type=”grid” text_align=”left” css_animation=”” el_class=”register_section”][vc_column_inner width=”1/2″][vc_empty_space height=”43px”][vc_column_text] \n\n\n\nDATES:\n29 March 2020\n\n\nTIME:\nSunday\n\n\nADDRESS:\nQueenscliff Beach\n\n\n\n[/vc_column_text][vc_empty_space height=”23px”][/vc_column_inner][vc_column_inner width=”1/2″][vc_empty_space height=”43px”][vc_gmaps link=”#E-8_JTNDaWZyYW1lJTIwc3JjJTNEJTIyaHR0cHMlM0ElMkYlMkZ3d3cuZ29vZ2xlLmNvbSUyRm1hcHMlMkZlbWJlZCUzRnBiJTNEJTIxMW0xOCUyMTFtMTIlMjExbTMlMjExZDEzMjYzLjE5NzI3MjEyNDE2MiUyMTJkMTUxLjI2ODU0OTU5OTk5OTk3JTIxM2QtMzMuNzkxNjgwMTUlMjEybTMlMjExZjAlMjEyZjAlMjEzZjAlMjEzbTIlMjExaTEwMjQlMjEyaTc2OCUyMTRmMTMuMSUyMTNtMyUyMTFtMiUyMTFzMHg2YjEyYWFmYWYwMWYwZTc5JTI1M0EweDg3NmFhYTJiMGM4NmE3ZmElMjEyc1F1ZWVuc2NsaWZmJTI1MjBTdXJmJTI1MjBMaWZlJTI1MjBTYXZpbmclMjUyMENsdWIlMjE1ZTAlMjEzbTIlMjExc2VuJTIxMnNhdSUyMTR2MTU3NTUxMTUwODMwOSUyMTVtMiUyMTFzZW4lMjEyc2F1JTIyJTIwd2lkdGglM0QlMjI2MDAlMjIlMjBoZWlnaHQlM0QlMjI0NTAlMjIlMjBmcmFtZWJvcmRlciUzRCUyMjAlMjIlMjBzdHlsZSUzRCUyMmJvcmRlciUzQTAlM0IlMjIlMjBhbGxvd2Z1bGxzY3JlZW4lM0QlMjIlMjIlM0UlM0MlMkZpZnJhbWUlM0U=” el_class=”round_corner”][/vc_column_inner][/vc_row_inner][vc_empty_space height=”48px”][/vc_column][/vc_row][vc_row css_animation=”” row_type=”row” use_row_as_full_screen_section=”no” type=”full_width” angled_section=”no” text_align=”left” background_image_as_pattern=”without_pattern”][vc_column width=”1/6″][/vc_column][vc_column width=”2/3″][vc_empty_space height=”66px”][vc_column_text] \nfurther information\n[/vc_column_text][vc_empty_space height=”43px”][vc_column_text el_class=”event_content”] \nCall us to make an enquiry on PHONE 02 9949 5522\, \nEMAIL admin@lifelinenb.org.au or fill out the form below \n[/vc_column_text][vc_empty_space height=”40px”]\n\n\n\n\n\n\n\n\n\n\n\n\n\n\n\n\n\n\n\n\n\n\n\n\n\n\n\n\n\n\n\n\n\n\n\n\n\n\n\n\n\n[recaptcha]\n\n\n\n\n\n\n\n\n[/vc_column][vc_column width=”1/6″][/vc_column][/vc_row] \n
URL:https://www.lifelinenb.org.au/event/lifeline-classic/
LOCATION:Queenscliff Beach\, North Steyne & Collingwood Road St\,\, Queenscliff\, NSW\, 2095\, Australia
CATEGORIES:Lifeline Classic
END:VEVENT
END:VCALENDAR